BEGIN:VCALENDAR
VERSION:2.0
PRODID:-//Databook - ECPv6.15.20//NONSGML v1.0//EN
CALSCALE:GREGORIAN
METHOD:PUBLISH
X-WR-CALNAME:Databook
X-ORIGINAL-URL:https://databook.com
X-WR-CALDESC:Events for Databook
REFRESH-INTERVAL;VALUE=DURATION:PT1H
X-Robots-Tag:noindex
X-PUBLISHED-TTL:PT1H
BEGIN:VTIMEZONE
TZID:America/New_York
BEGIN:DAYLIGHT
TZOFFSETFROM:-0500
TZOFFSETTO:-0400
TZNAME:EDT
DTSTART:20230312T070000
END:DAYLIGHT
BEGIN:STANDARD
TZOFFSETFROM:-0400
TZOFFSETTO:-0500
TZNAME:EST
DTSTART:20231105T060000
END:STANDARD
BEGIN:DAYLIGHT
TZOFFSETFROM:-0500
TZOFFSETTO:-0400
TZNAME:EDT
DTSTART:20240310T070000
END:DAYLIGHT
BEGIN:STANDARD
TZOFFSETFROM:-0400
TZOFFSETTO:-0500
TZNAME:EST
DTSTART:20241103T060000
END:STANDARD
BEGIN:DAYLIGHT
TZOFFSETFROM:-0500
TZOFFSETTO:-0400
TZNAME:EDT
DTSTART:20250309T070000
END:DAYLIGHT
BEGIN:STANDARD
TZOFFSETFROM:-0400
TZOFFSETTO:-0500
TZNAME:EST
DTSTART:20251102T060000
END:STANDARD
END:VTIMEZONE
BEGIN:VEVENT
DTSTART;TZID=America/New_York:20241107T130000
DTEND;TZID=America/New_York:20241107T140000
DTSTAMP:20260420T074726
CREATED:20240923T145307Z
LAST-MODIFIED:20241106T204248Z
UID:10000030-1730984400-1730988000@databook.com
SUMMARY:Becoming an A-Player in Sales
DESCRIPTION:[vc_row conditional_render=”%5B%7B%22value_role%22%3A%22administrator%22%7D%5D”][vc_column width=”2/3″][vc_column_text css=”” text_typography=”{“family“:“Default“\,“variant“:“Default“\,“font_size“:“22px“\,“line_height“:“28px“\,“letter_spacing“:““\,“text_transform“:““}”]Hosted by: Scott Ingram (Founder\, Sales Success Media) \nJoin sales expert Scott Ingram to learn the key skills\, goal-setting strategies\, and leadership collaboration needed to become a top-performing sales professional. \nTo register\, just drop your email below.[/vc_column_text][vc_column_text css=””] \n\n[/vc_column_text][/vc_column][vc_column width=”1/3″ css=”.vc_custom_1724443180518{background-color: var(–porto-light-color) !important;}” conditional_render=”%5B%7B%22value_role%22%3A%22administrator%22%7D%5D”][vc_single_image image=”7386″ img_size=”full” css=””][vc_empty_space][vc_column_text css=”” css_params=””] \nWhat will be covered:\n\nThe essential skills and traits of most top sellers\nHow to set (and reach) productivity goals that really matter\nThe importance of collaborating internally with leadership on alignment\n\nDetails:\n\nNovember 7th\, 2024\n1 pm ET / 10 am PT\n\n[/vc_column_text][/vc_column][/vc_row]
URL:https://databook.com/event/becoming-an-a-player-in-sales/
CATEGORIES:Databook,Webinar
ATTACH;FMTTYPE=image/png:https://databook.com/wp-content/uploads/Scott-Ingram-RSVP-Activity-Card-1-1.png
END:VEVENT
END:VCALENDAR