BEGIN:VCALENDAR
VERSION:2.0
PRODID:-//Databook - ECPv6.15.20//NONSGML v1.0//EN
CALSCALE:GREGORIAN
METHOD:PUBLISH
X-ORIGINAL-URL:https://databook.com
X-WR-CALDESC:Events for Databook
REFRESH-INTERVAL;VALUE=DURATION:PT1H
X-Robots-Tag:noindex
X-PUBLISHED-TTL:PT1H
BEGIN:VTIMEZONE
TZID:America/New_York
BEGIN:DAYLIGHT
TZOFFSETFROM:-0500
TZOFFSETTO:-0400
TZNAME:EDT
DTSTART:20230312T070000
END:DAYLIGHT
BEGIN:STANDARD
TZOFFSETFROM:-0400
TZOFFSETTO:-0500
TZNAME:EST
DTSTART:20231105T060000
END:STANDARD
BEGIN:DAYLIGHT
TZOFFSETFROM:-0500
TZOFFSETTO:-0400
TZNAME:EDT
DTSTART:20240310T070000
END:DAYLIGHT
BEGIN:STANDARD
TZOFFSETFROM:-0400
TZOFFSETTO:-0500
TZNAME:EST
DTSTART:20241103T060000
END:STANDARD
BEGIN:DAYLIGHT
TZOFFSETFROM:-0500
TZOFFSETTO:-0400
TZNAME:EDT
DTSTART:20250309T070000
END:DAYLIGHT
BEGIN:STANDARD
TZOFFSETFROM:-0400
TZOFFSETTO:-0500
TZNAME:EST
DTSTART:20251102T060000
END:STANDARD
END:VTIMEZONE
BEGIN:VEVENT
DTSTART;TZID=America/New_York:20241009T130000
DTEND;TZID=America/New_York:20241009T140000
DTSTAMP:20260424T014721
CREATED:20240912T131039Z
LAST-MODIFIED:20240918T181348Z
UID:10000029-1728478800-1728482400@databook.com
SUMMARY:Mastering Meeting Prep with DatabookGPT
DESCRIPTION:[vc_row conditional_render=”%5B%7B%22value_role%22%3A%22administrator%22%7D%5D”][vc_column width=”2/3″][vc_column_text css=”” text_typography=”{“family“:“Default“\,“variant“:“Default“\,“font_size“:“22px“\,“line_height“:“28px“\,“letter_spacing“:““\,“text_transform“:““}”]Hosted by: Trevor Gill (Sr. Client Partner) and Jacob Zhang (Business Value) of Databook \nGet a live demo of how you can ace every sales meeting with DatabookGPT. From getting instant briefs you on who you’re meeting\, creating a topic-specific agenda\, and delivering a list of highly personalized discovery questions\, you’ll walk into every meeting as the smartest person in the room. \nTo register\, just drop your email below.[/vc_column_text][vc_column_text css=””] \n\n[/vc_column_text][/vc_column][vc_column width=”1/3″ css=”.vc_custom_1724443180518{background-color: var(–porto-light-color) !important;}” conditional_render=”%5B%7B%22value_role%22%3A%22administrator%22%7D%5D”][vc_single_image image=”7368″ img_size=”full” css=”” label=””][vc_empty_space][vc_column_text css=””] \nWhat will be covered:\n\nHow DatabookGPT helps you with in-depth meeting prep\, from research to call plans and more\nA step-by-step demo of the best prompts for complete coverage\nHighlights of DatabookGPT’s key differentiators\nLive audience Q&A\n\nDetails:\n\nOctober 9\, 2024\n1 pm ET / 10 am PT\n\n[/vc_column_text][/vc_column][/vc_row]
URL:https://databook.com/event/mastering-meeting-prep-with-databookgpt/
CATEGORIES:Databook,Webinar
ATTACH;FMTTYPE=image/png:https://databook.com/wp-content/uploads/RSVP-Activity-Card-copy.png
END:VEVENT
END:VCALENDAR